BEGIN:VCALENDAR
VERSION:2.0
BEGIN:VEVENT
SUMMARY:Fitliken Live at the Cuminestown MCC Rock Night
DTSTART:20260606T213000Z
DTEND:20260607T003000Z
LOCATION:The Royal British Legion, Turriff, AB53 4DS
DESCRIPTION:Fitliken live – high-energy rock covers from AC/DC to Foo Fighters.
END:VEVENT
END:VCALENDAR