BEGIN:VCALENDAR
VERSION:2.0
BEGIN:VEVENT
SUMMARY:Fitliken Live at Buckie Thistle
DTSTART:20260606T213000Z
DTEND:20260607T003000Z
LOCATION:Victoria Park, Midmar Street, Buckie, AB56 1BJ
DESCRIPTION:Fitliken live – high-energy rock covers from AC/DC to Foo Fighters.
END:VEVENT
END:VCALENDAR